BEGIN:VCALENDAR
VERSION:2.0
PRODID:-//Göd város hivatalos honlapja - ECPv6.8.2.1//NONSGML v1.0//EN
CALSCALE:GREGORIAN
METHOD:PUBLISH
X-ORIGINAL-URL:https://god.hu
X-WR-CALDESC:Events for Göd város hivatalos honlapja
REFRESH-INTERVAL;VALUE=DURATION:PT1H
X-Robots-Tag:noindex
X-PUBLISHED-TTL:PT1H
BEGIN:VTIMEZONE
TZID:Europe/Budapest
BEGIN:DAYLIGHT
TZOFFSETFROM:+0100
TZOFFSETTO:+0200
TZNAME:CEST
DTSTART:20210328T010000
END:DAYLIGHT
BEGIN:STANDARD
TZOFFSETFROM:+0200
TZOFFSETTO:+0100
TZNAME:CET
DTSTART:20211031T010000
END:STANDARD
END:VTIMEZONE
BEGIN:VEVENT
DTSTART;TZID=Europe/Budapest:20211205T173000
DTEND;TZID=Europe/Budapest:20211205T173000
DTSTAMP:20260424T205754
CREATED:20211116T075815Z
LAST-MODIFIED:20211116T082850Z
UID:4709-1638725400-1638725400@god.hu
SUMMARY:Adventi gyertyagyújtás - II.
DESCRIPTION:Adventi gyertyagyújtás \n\n\nAdventi gyertyagyújtások
URL:https://god.hu/events/adventi-gyertyagyujtas-ii/
END:VEVENT
END:VCALENDAR