BEGIN:VCALENDAR
VERSION:2.0
PRODID:-//Göd város hivatalos honlapja - ECPv6.8.2.1//NONSGML v1.0//EN
CALSCALE:GREGORIAN
METHOD:PUBLISH
X-WR-CALNAME:Göd város hivatalos honlapja
X-ORIGINAL-URL:https://god.hu
X-WR-CALDESC:Events for Göd város hivatalos honlapja
REFRESH-INTERVAL;VALUE=DURATION:PT1H
X-Robots-Tag:noindex
X-PUBLISHED-TTL:PT1H
BEGIN:VTIMEZONE
TZID:Europe/Budapest
BEGIN:DAYLIGHT
TZOFFSETFROM:+0100
TZOFFSETTO:+0200
TZNAME:CEST
DTSTART:20220327T010000
END:DAYLIGHT
BEGIN:STANDARD
TZOFFSETFROM:+0200
TZOFFSETTO:+0100
TZNAME:CET
DTSTART:20221030T010000
END:STANDARD
END:VTIMEZONE
BEGIN:VEVENT
DTSTART;TZID=Europe/Budapest:20220604T120000
DTEND;TZID=Europe/Budapest:20220604T130000
DTSTAMP:20260424T133546
CREATED:20220526T122659Z
LAST-MODIFIED:20220526T122659Z
UID:7510-1654344000-1654347600@god.hu
SUMMARY:Nemzeti Összetartozás Napja
DESCRIPTION:Nemzeti Összetartozás Napja
URL:https://god.hu/events/nemzeti-osszetartozas-napja/
END:VEVENT
END:VCALENDAR