BEGIN:VCALENDAR
VERSION:2.0
PRODID:-//Göd város hivatalos honlapja - ECPv6.8.2.1//NONSGML v1.0//EN
CALSCALE:GREGORIAN
METHOD:PUBLISH
X-ORIGINAL-URL:https://god.hu
X-WR-CALDESC:Events for Göd város hivatalos honlapja
REFRESH-INTERVAL;VALUE=DURATION:PT1H
X-Robots-Tag:noindex
X-PUBLISHED-TTL:PT1H
BEGIN:VTIMEZONE
TZID:Europe/Budapest
BEGIN:DAYLIGHT
TZOFFSETFROM:+0100
TZOFFSETTO:+0200
TZNAME:CEST
DTSTART:20220327T010000
END:DAYLIGHT
BEGIN:STANDARD
TZOFFSETFROM:+0200
TZOFFSETTO:+0100
TZNAME:CET
DTSTART:20221030T010000
END:STANDARD
END:VTIMEZONE
BEGIN:VEVENT
DTSTART;TZID=Europe/Budapest:20220306T180000
DTEND;TZID=Europe/Budapest:20220306T193000
DTSTAMP:20260424T155904
CREATED:20220302T084509Z
LAST-MODIFIED:20220302T084509Z
UID:6353-1646589600-1646595000@god.hu
SUMMARY:BeCsal hangverseny
DESCRIPTION:BeCsal hangverseny – 2022.03.06.
URL:https://god.hu/events/becsal-hangverseny/
END:VEVENT
BEGIN:VEVENT
DTSTART;TZID=Europe/Budapest:20220307T160000
DTEND;TZID=Europe/Budapest:20220307T180000
DTSTAMP:20260424T155904
CREATED:20220223T104916Z
LAST-MODIFIED:20220223T104916Z
UID:6219-1646668800-1646676000@god.hu
SUMMARY:Lakossági Fórum
DESCRIPTION:Lakossági Fórum – 2022.03.07.
URL:https://god.hu/events/lakossagi-forum/
END:VEVENT
BEGIN:VEVENT
DTSTART;TZID=Europe/Budapest:20220313T170000
DTEND;TZID=Europe/Budapest:20220313T190000
DTSTAMP:20260424T155904
CREATED:20220302T084616Z
LAST-MODIFIED:20220302T084616Z
UID:6355-1647190800-1647198000@god.hu
SUMMARY:Gödi Jazz Nap
DESCRIPTION:Gödi Jazz Nap – 2022.03.13.
URL:https://god.hu/events/godi-jazz-nap/
END:VEVENT
BEGIN:VEVENT
DTSTART;TZID=Europe/Budapest:20220315T110000
DTEND;TZID=Europe/Budapest:20220315T133000
DTSTAMP:20260424T155904
CREATED:20220308T132323Z
LAST-MODIFIED:20220308T132323Z
UID:6491-1647342000-1647351000@god.hu
SUMMARY:Ünnepi megemlékezések
DESCRIPTION:Ünnepi megemlékezések – 2022.03.15.
URL:https://god.hu/events/unnepi-megemlekezesek/
END:VEVENT
END:VCALENDAR