BEGIN:VCALENDAR
VERSION:2.0
PRODID:-//Göd város hivatalos honlapja - ECPv6.8.2.1//NONSGML v1.0//EN
CALSCALE:GREGORIAN
METHOD:PUBLISH
X-ORIGINAL-URL:https://god.hu
X-WR-CALDESC:Events for Göd város hivatalos honlapja
REFRESH-INTERVAL;VALUE=DURATION:PT1H
X-Robots-Tag:noindex
X-PUBLISHED-TTL:PT1H
BEGIN:VTIMEZONE
TZID:Europe/Budapest
BEGIN:DAYLIGHT
TZOFFSETFROM:+0100
TZOFFSETTO:+0200
TZNAME:CEST
DTSTART:20220327T010000
END:DAYLIGHT
BEGIN:STANDARD
TZOFFSETFROM:+0200
TZOFFSETTO:+0100
TZNAME:CET
DTSTART:20221030T010000
END:STANDARD
END:VTIMEZONE
BEGIN:VEVENT
DTSTART;TZID=Europe/Budapest:20220501T100000
DTEND;TZID=Europe/Budapest:20220501T190000
DTSTAMP:20260424T133648
CREATED:20220425T080938Z
LAST-MODIFIED:20220425T080938Z
UID:7024-1651399200-1651431600@god.hu
SUMMARY:Becsal – Családi Sportmajális – 2022.05.01.
DESCRIPTION:Becsal – Családi Sportmajális – 2022.05.01.
URL:https://god.hu/events/becsal-csaladi-sportmajalis-2022-05-01/
END:VEVENT
BEGIN:VEVENT
DTSTART;TZID=Europe/Budapest:20220501T120000
DTEND;TZID=Europe/Budapest:20220501T190000
DTSTAMP:20260424T133648
CREATED:20220421T091030Z
LAST-MODIFIED:20220421T091059Z
UID:6933-1651406400-1651431600@god.hu
SUMMARY:Kincsem Majális
DESCRIPTION:Kincsem Majális
URL:https://god.hu/events/kincsem-majalis/
END:VEVENT
BEGIN:VEVENT
DTSTART;TZID=Europe/Budapest:20220514T120000
DTEND;TZID=Europe/Budapest:20220514T200000
DTSTAMP:20260424T133648
CREATED:20220504T080711Z
LAST-MODIFIED:20220504T080711Z
UID:7169-1652529600-1652558400@god.hu
SUMMARY:Madarak és fák napja május 14-én
DESCRIPTION:Madarak és fák napja május 14-én
URL:https://god.hu/events/madarak-es-fak-napja-majus-14-en/
END:VEVENT
BEGIN:VEVENT
DTSTART;TZID=Europe/Budapest:20220514T200000
DTEND;TZID=Europe/Budapest:20220514T210000
DTSTAMP:20260424T133648
CREATED:20220427T053556Z
LAST-MODIFIED:20220427T053556Z
UID:7048-1652558400-1652562000@god.hu
SUMMARY:Becsal - zongoraest
DESCRIPTION:Becsal – zongoraest
URL:https://god.hu/events/becsal-zongoraest/
END:VEVENT
BEGIN:VEVENT
DTSTART;TZID=Europe/Budapest:20220514T200000
DTEND;TZID=Europe/Budapest:20220514T213000
DTSTAMP:20260424T133648
CREATED:20220511T061541Z
LAST-MODIFIED:20220511T061541Z
UID:7247-1652558400-1652563800@god.hu
SUMMARY:Újra szól a klasszikus zene Gödön!
DESCRIPTION:Újra szól a klasszikus zene Gödön!
URL:https://god.hu/events/ujra-szol-a-klasszikus-zene-godon/
END:VEVENT
BEGIN:VEVENT
DTSTART;TZID=Europe/Budapest:20220528T110000
DTEND;TZID=Europe/Budapest:20220528T140000
DTSTAMP:20260424T133648
CREATED:20220519T084424Z
LAST-MODIFIED:20220519T084922Z
UID:7332-1653735600-1653746400@god.hu
SUMMARY:Gyereknap a piacon!
DESCRIPTION:Gyereknap a piacon!
URL:https://god.hu/events/gyereknap-a-piacon/
END:VEVENT
END:VCALENDAR